BEGIN:VCALENDAR
VERSION:2.0
PRODID:-//Eventin//Event Calendar//EN
CALSCALE:GREGORIAN
METHOD:PUBLISH
BEGIN:VEVENT
UID:ae737503bfd97d789603ea512fa974bb@bsekheadoffice.com
SUMMARY:Artistic expressions & perspectives
DESCRIPTION:
LOCATION:USA
DTSTAMP:20260424T183920Z
DTSTART:20251001T140000Z
DTEND:20301113T230000Z
END:VEVENT
END:VCALENDAR
